OziExplorer Map Data File Version 2.2
U38-31-32-33.jpg
Y:\ozi_map\work_map\2\1+1+1\u38-31-32-33.jpg
1 ,Map Code,
Pulkovo 1942 (2),, 0.0000, 0.0000,WGS 84
Reserved 1
Reserved 2
Magnetic Variation,,,E
Map Projection,Transverse Mercator,PolyCal,No,AutoCalOnly,No,BSBUseWPX,No
Point01,xy, 178, 229,in, deg, 80, 40,N, 42, 0,E, grid, , , ,N
Point02,xy, 1782, 226,in, deg, 80, 40,N, 43, 30,E, grid, , , ,N
Point03,xy, 3383, 191,in, deg, 80, 40,N, 45, 0,E, grid, , , ,N
Point04,xy, 145, 2427,in, deg, 80, 20,N, 42, 0,E, grid, , , ,N
Point05,xy, 1802, 2431,in, deg, 80, 20,N, 43, 30,E, grid, , , ,N
Point06,xy, 3464, 2390,in, deg, 80, 20,N, 45, 0,E, grid, , , ,N
Point07,xy, 115, 4622,in, deg, 80, 0,N, 42, 0,E, grid, , , ,N
Point08,xy, 1830, 4623,in, deg, 80, 0,N, 43, 30,E, grid, , , ,N
Point09,xy, 3549, 4581,in, deg, 80, 0,N, 45, 0,E, grid, , , ,N
Point10,xy, , ,in, deg, , ,, , ,, grid, , , ,
Point11,xy, , ,in, deg, , ,, , ,, grid, , , ,
Point12,xy, , ,in, deg, , ,, , ,, grid, , , ,
Point13,xy, , ,in, deg, , ,, , ,, grid, , , ,
Point14,xy, , ,in, deg, , ,, , ,, grid, , , ,
Point15,xy, , ,in, deg, , ,, , ,, grid, , , ,
Point16,xy, , ,in, deg, , ,, , ,, grid, , , ,
Point17,xy, , ,in, deg, , ,, , ,, grid, , , ,
Point18,xy, , ,in, deg, , ,, , ,, grid, , , ,
Point19,xy, , ,in, deg, , ,, , ,, grid, , , ,
Point20,xy, , ,in, deg, , ,, , ,, grid, , , ,
Point21,xy, , ,in, deg, , ,, , ,, grid, , , ,
Point22,xy, , ,in, deg, , ,, , ,, grid, , , ,
Point23,xy, , ,in, deg, , ,, , ,, grid, , , ,
Point24,xy, , ,in, deg, , ,, , ,, grid, , , ,
Point25,xy, , ,in, deg, , ,, , ,, grid, , , ,
Point26,xy, , ,in, deg, , ,, , ,, grid, , , ,
Point27,xy, , ,in, deg, , ,, , ,, grid, , , ,
Point28,xy, , ,in, deg, , ,, , ,, grid, , , ,
Point29,xy, , ,in, deg, , ,, , ,, grid, , , ,
Point30,xy, , ,in, deg, , ,, , ,, grid, , , ,
Projection Setup, 0.000000000, 45.000000000, 1.000000000, 500000.00, 0.00,,,,,
Map Feature = MF ; Map Comment = MC These follow if they exist
Track File = TF These follow if they exist
Moving Map Parameters = MM? These follow if they exist
MM0,Yes
MMPNUM,4
MMPXY,1,175,226
MMPXY,2,3388,186
MMPXY,3,3552,4585
MMPXY,4,113,4624
MMPLL,1, 41.998000, 80.667025
MMPLL,2, 45.004770, 80.667416
MMPLL,3, 45.004495, 79.999602
MMPLL,4, 41.999085, 79.999793
MM1B,16.927776
Other Grid Setup
GRGRID,Yes,4 Km,No,16711680,255,4 Km,0,16777215,8,1,Yes,No,No,x
MOP,Map Open Position,0,0
IWH,Map Image Width/Height,3652,4728
